BEGIN:VCALENDAR
VERSION:2.0
PRODID:-//wp-events-plugin.com//6.5//EN
TZID:Europe/Stockholm
X-WR-TIMEZONE:Europe/Stockholm
BEGIN:VEVENT
UID:23-10090@goteborg.swea.org
DTSTART:20260507T180000Z
DTEND:20260507T210000Z
DTSTAMP:20260206T154200Z
URL:https://goteborg.swea.org/events/7-5-swea-after-all/
SUMMARY:7/5 SWEA After All
DESCRIPTION:Inbjudan kommer!
ATTACH;FMTTYPE=image/jpeg:https://goteborg.swea.org/wp-content/uploads/sit
 es/23/2025/09/levantine-ny.jpeg
END:VEVENT
END:VCALENDAR