BEGIN:VCALENDAR
VERSION:2.0
PRODID:-//wp-events-plugin.com//6.5//EN
TZID:Europe/Stockholm
X-WR-TIMEZONE:Europe/Stockholm
BEGIN:VEVENT
UID:23-10238@goteborg.swea.org
DTSTART:20260603T180000Z
DTEND:20260603T210000Z
DTSTAMP:20260228T102806Z
URL:https://goteborg.swea.org/events/3-6-after-all-pa-blomstermala-saro/
SUMMARY:3/6 After All på Blomstermåla\, Säro
DESCRIPTION:Inbjudan kommer!
ATTACH;FMTTYPE=image/jpeg:https://goteborg.swea.org/wp-content/uploads/sit
 es/23/2020/06/sommar-2.jpg
END:VEVENT
END:VCALENDAR