BEGIN:VCALENDAR
VERSION:2.0
PRODID:-//wp-events-plugin.com//6.5//EN
TZID:Europe/Stockholm
X-WR-TIMEZONE:Europe/Stockholm
BEGIN:VEVENT
UID:23-10621@goteborg.swea.org
DTSTART:20260428T183000Z
DTEND:20260428T223000Z
DTSTAMP:20260410T135041Z
URL:https://goteborg.swea.org/events/28-4-professional-tjejkvall-hos-avian
 i/
SUMMARY:28/4  Professional  -Tjejkväll hos Aviani
DESCRIPTION:Professional 28 April \nPå efterfrågan välkomnar vi Er till 
 Tjejkväll hos Aviani\nPassform komfort och välmående står i fokus. Vi 
 får ta del av sommarens badmode\, klänningar och inte minst BH skolan. D
 et bjuds på bubbel och tilltugg och som vanligt är det inget köptvång.
 \n\nFör Er som vill\, äter vi tillsammans innan på närliggande ställe
 \n\nAnmälan: senast 23/4 till goteborg.vp@swea.org \n\nPlats: Vallgatan 
 33\n\nTid: 18:30\n\nPrivat bokning för SWEOR\n\nVärdinna: Charlotte Koch
  Bengtsson\n\nVälkomna hälsar vi\, Professionalgruppen\n\nÅsa\, Victori
 a &amp\; Charlotte
ATTACH;FMTTYPE=image/jpeg:https://goteborg.swea.org/wp-content/uploads/sit
 es/23/2025/01/SWEA-Professional-RGB.png
END:VEVENT
END:VCALENDAR