BEGIN:VCALENDAR
VERSION:2.0
PRODID:-//wp-events-plugin.com//6.5//EN
TZID:Europe/Stockholm
X-WR-TIMEZONE:Europe/Stockholm
BEGIN:VEVENT
UID:23-10335@goteborg.swea.org
DTSTART:20260428T110000Z
DTEND:20260428T150000Z
DTSTAMP:20260405T110344Z
URL:https://goteborg.swea.org/events/28-4-existens-pa-varldskulturmuseet/
SUMMARY:28/4 Existens på Världskulturmuseet
DESCRIPTION:Välkommen till utställningen Existens på Världskulturmuseet
 \n\n” Människor har alltid funderat på livets mening. Vi undrar varfö
 r vi finns. Vi skapar konst och berättelser för att förstå döden\, k
 ärleken och framtiden. Vi tänker på drömmar och på vilka vi är. Vi f
 örändras hela tiden. Utställningen Existens vill tillsammans med dig ge
  utrymme för de stora frågorna i livet. ”\n\nNÄR? Tisdagen den 28 apr
 il kl 11\, klockan 11:15-12:00. Vi får en guidad visning av utställning
 en Existens.\n\nVAR? Världskulturmuseet\, Södra Vägen 54\, Göteborg\n\
 nPRIS: 200kr\, inträde ingår i priset\n\nEfter visningen har vi en gemen
 sam lunch på restaurangen där.\n\nOBS Ange i anmälan om du även vill d
 elta i lunchen. https://www.varldskulturmuseet.se/besok/restaurang/\n\nOBS
  BINDANDE ANMÄLAN: Caro\n\n \n\nBETALNING:  När du fått bekräftelse 
 på att du fått plats swishar du 200kr till Carola.
ATTACH;FMTTYPE=image/jpeg:https://goteborg.swea.org/wp-content/uploads/sit
 es/23/2026/03/varldskulturmuseet.jpg
END:VEVENT
END:VCALENDAR