BEGIN:VCALENDAR
VERSION:2.0
PRODID:-//wp-events-plugin.com//6.5//EN
TZID:Europe/Stockholm
X-WR-TIMEZONE:Europe/Stockholm
BEGIN:VEVENT
UID:23-10601@goteborg.swea.org
DTSTART:20260424T110000Z
DTEND:20260424T150000Z
DTSTAMP:20260409T130822Z
URL:https://goteborg.swea.org/events/24-4-swea-lunch/
SUMMARY:24/4 SWEA lunch operan
DESCRIPTION:Varmt välkomna till SWEA-lunch!\n\nNär: Fredag 24 april  kl 
 11:00\n\nVar: GöteborgsOperan\, Christina Nilssons gata\, 411 04 Götebo
 rg\n\nVi börjar 11:00 med en presentation av Daniel Olmarker som berätta
 r om sin roll på Operan och spelar något för oss.\n\nOBS! Daniel hålle
 r dörrarna öppna till 11:00 och sedan måste han låsa\, så kom i tid!\
 n\nDärefter äter vi lunch med Daniel som lunchgäst.\n\nOBS! begränsat 
 antal\, ”först till kvarn”. Information med meny\, priser etc\, finne
 r ni via länken: www.opera.se \n\n Anmälan: senast måndag 20 april ti
 ll email : sweagoteborglunch@gmail.com  eller per meddelande till på mes
 senter/WhatsApp).\n\nAnge eventuell matallergi vid anmälan.\n\nVärdinna:
  Helena Lindgren
ATTACH;FMTTYPE=image/jpeg:https://goteborg.swea.org/wp-content/uploads/sit
 es/23/2025/09/MN-lunch.png
END:VEVENT
END:VCALENDAR