BEGIN:VCALENDAR
VERSION:2.0
PRODID:-//wp-events-plugin.com//6.5//EN
TZID:Europe/Stockholm
X-WR-TIMEZONE:Europe/Stockholm
BEGIN:VEVENT
UID:23-10089@goteborg.swea.org
DTSTART:20260422T180000Z
DTEND:20260422T220000Z
DTSTAMP:20260224T102845Z
URL:https://goteborg.swea.org/events/22-4-modevisning-pa-scruples-med-midd
 ag-innan/
SUMMARY:22/4 Modevisning på Scruples med middag innan
DESCRIPTION:Välkomna till populär Modevisning hos Scruples!\n\nMissa inte
  tillfället att få vara med på den mycket uppskattade modevisningen på
  Scruples i Sävedalen….fart och fläkt med fräsiga modeller som visar 
 det senaste modet. Som bonus erbjuds vi dessutom 20% rabatt på det vi kö
 per.\n\nNär? Onsdagen 22 april kl.19.00  (Dörrarna öppnar kl. 18.45).\
 n\nFör den som önskar äta innan\, samlas vi kl. 17.00 på Restaurang Pi
 ccolo\, Göteborgsvägen 80 www.restaurangpiccolo.se.  Restaurang Piccolo
  ligger i fastigheten till höger om Scruples\n\nVar? Scruples\, Göteborg
 svägen 78 i Sävedalen\, https://scruples.se/#Header              
      \n\nPris? 45 kr och bindande anmälan\, (en avgift tas ut för don
 ation för att undvika sena\, oanmälda avhopp)\n\nHur? Denna gång får v
 i Sweor inte ha hela butiken för oss själva\, det kommer även att vara 
 andra gäster/kunder där. Du är välkommen att bjuda med en väninna\, p
 artner eller kompis i mån av plats. (Vi har 28 säkra platser)\n\nSista a
 nmälningsdag: Söndag 15 mars!! (För att säkra våra platser)\n\nAnmäl
 an: Till kvällens värdinna Mona Nordberg. När Mona bekräftat att du f
 ått plats\, swishar du 45 kr till Mona.\n\nOBS! Var tydlig i anmälan med
  om du/ni vill hänga med på både Scruples och Piccolo eller bara det en
 a alternativet.\n\nVarmt Välkomna hälsar kvällens värdinna Mona\n\nVia
  nygamla programgruppen:\n\nMaria Borgström Ericson\n\nElisabeth Hult\n\n
 Carola Klevensparr\n\nMaria Junger
ATTACH;FMTTYPE=image/jpeg:https://goteborg.swea.org/wp-content/uploads/sit
 es/23/2025/03/mode.jpg
END:VEVENT
END:VCALENDAR