BEGIN:VCALENDAR
VERSION:2.0
PRODID:-//wp-events-plugin.com//6.5//EN
TZID:Europe/Stockholm
X-WR-TIMEZONE:Europe/Stockholm
BEGIN:VEVENT
UID:23-10606@goteborg.swea.org
DTSTART:20260602T120000Z
DTEND:20260602T150000Z
DTSTAMP:20260405T111805Z
URL:https://goteborg.swea.org/events/2-6-hattparad-pa-gts-tandlakarsallska
 pet/
SUMMARY:2/6 Hattparad på GTS (Tandläkarsällskapet)
DESCRIPTION:Inbjudan kommer!
ATTACH;FMTTYPE=image/jpeg:https://goteborg.swea.org/wp-content/uploads/sit
 es/23/2026/04/hattlunchen-diplom.jpg
END:VEVENT
END:VCALENDAR