BEGIN:VCALENDAR
VERSION:2.0
PRODID:-//wp-events-plugin.com//6.5//EN
TZID:Europe/Stockholm
X-WR-TIMEZONE:Europe/Stockholm
BEGIN:VEVENT
UID:23-10237@goteborg.swea.org
DTSTART:20260519T160000Z
DTEND:20260519T220000Z
DTSTAMP:20260228T102634Z
URL:https://goteborg.swea.org/events/19-5-swea-bio/
SUMMARY:19/5 SWEA bio
DESCRIPTION:Inbjudan kommer!
ATTACH;FMTTYPE=image/jpeg:https://goteborg.swea.org/wp-content/uploads/sit
 es/23/2024/10/Bio-gra-300x121-1.jpg
END:VEVENT
END:VCALENDAR