BEGIN:VCALENDAR
VERSION:2.0
PRODID:-//wp-events-plugin.com//6.5//EN
TZID:Europe/Stockholm
X-WR-TIMEZONE:Europe/Stockholm
BEGIN:VEVENT
UID:23-10334@goteborg.swea.org
DTSTART:20260511T103000Z
DTEND:20260511T140000Z
DTSTAMP:20260318T112756Z
URL:https://goteborg.swea.org/events/11-5-guidad-tur-pa-ostra-kyrkogarden/
SUMMARY:11/5 Guidad tur på Östra Kyrkogården
DESCRIPTION:Guidad tur på Östra kyrkogården och Bagaregården\n\nMed vå
 r anlitade guide Magnus Engelbrektsson får vi möjlighet att titta närma
 re på Göteborgs mest spektakulära kyrkogård\, se några av de stora gr
 avmonumenten och en rad kända personers gravar – redare\, köpmän m.fl
 .\nDärefter besöker vi den trivsamma stadsdelen Bagaregården med sina l
 andshövdingehus. Stadsdelen är utpekad som riksintresse för kulturmilj
 övården. Vi lär oss känna igen detaljer i stadsplaneringen som var typ
 iska för det tidiga 1900-talet och Albert Lilienbergs stadsplaner. https:
 //followmeguide.se/om-mig/ (länk för dig som vill läsa mer om Magnus)\n
 \nNär? Måndag 11 maj kl. 10.30\n\nTillgänglighet: mest asfalt\, några 
 backar\n\nVar? Start: Redbergsplatsen vid ingången till kyrkogården\n\nA
 vslutning: Redbergsplatsen\n\nTid: 90 minuter. \n\nPris? 150 kr (kan komm
 a att justeras om deltagarantalet blir för lågt)\n\nFår jag ta med gäs
 t? Ja\, i mån av plats.\n\nOBS! Anmälan: Mail till Maria Ljunger senast
  torsdag 23 april värdinnan för aktiviteten\n\nBetalning: När du skick
 at din anmälan\, får du besked om du/ni har fått plats. Då är det dag
 s att Swisha 150 kr per person till Maria Junger ange Östra kyrkogården 
 vid betalning\n\nFör dig som vill\, kommer vi efter den guidade turen\, g
 å till Dicksons hus på Danska vägen 61 A för att äta lunch.\n\nDagens
  rätt: 85 kronor (inkl. dricka\, salladsbuffé\, kaffe). Öppet för lunc
 h 11.30-14. Vin/öl serveras för den som så önskar.\n\nOBS! Anmäl dig/
 er till guidad tur och ange om du vill äta lunch. (Lunchrestaurangen vill
  veta hur många vi blir\, två veckor i förväg för att kunna duka bord
  till oss som grupp.)\n\nhttps://meny.omsorgen.se/vastra-gotalands-lan/got
 eborgs-stad/restaurang-dicksons/
ATTACH;FMTTYPE=image/jpeg:https://goteborg.swea.org/wp-content/uploads/sit
 es/23/2026/03/kyrkogard.png
END:VEVENT
END:VCALENDAR